BEGIN:VCALENDAR
VERSION:2.0
PRODID:-//SPD Seligenstadt - ECPv6.15.20//NONSGML v1.0//EN
CALSCALE:GREGORIAN
METHOD:PUBLISH
X-ORIGINAL-URL:https://www.spd-seligenstadt.de
X-WR-CALDESC:Veranstaltungen für SPD Seligenstadt
REFRESH-INTERVAL;VALUE=DURATION:PT1H
X-Robots-Tag:noindex
X-PUBLISHED-TTL:PT1H
BEGIN:VTIMEZONE
TZID:Europe/Berlin
BEGIN:DAYLIGHT
TZOFFSETFROM:+0100
TZOFFSETTO:+0200
TZNAME:CEST
DTSTART:20180325T010000
END:DAYLIGHT
BEGIN:STANDARD
TZOFFSETFROM:+0200
TZOFFSETTO:+0100
TZNAME:CET
DTSTART:20181028T010000
END:STANDARD
BEGIN:DAYLIGHT
TZOFFSETFROM:+0100
TZOFFSETTO:+0200
TZNAME:CEST
DTSTART:20190331T010000
END:DAYLIGHT
BEGIN:STANDARD
TZOFFSETFROM:+0200
TZOFFSETTO:+0100
TZNAME:CET
DTSTART:20191027T010000
END:STANDARD
BEGIN:DAYLIGHT
TZOFFSETFROM:+0100
TZOFFSETTO:+0200
TZNAME:CEST
DTSTART:20200329T010000
END:DAYLIGHT
BEGIN:STANDARD
TZOFFSETFROM:+0200
TZOFFSETTO:+0100
TZNAME:CET
DTSTART:20201025T010000
END:STANDARD
END:VTIMEZONE
BEGIN:VEVENT
DTSTART;TZID=Europe/Berlin:20190518T150000
DTEND;TZID=Europe/Berlin:20190518T180000
DTSTAMP:20260419T200913
CREATED:20190515T215555Z
LAST-MODIFIED:20190517T131519Z
UID:5219-1558191600-1558202400@www.spd-seligenstadt.de
SUMMARY:Lass mal reden\, Europa!
DESCRIPTION:Die Europäische Union (EU) ist für 512 Millionen Bürgerinnen und Bürger der Garant für Frieden und Wohlstand. Wie aber funktioniert das politische Miteinander in der EU? Was sind die Sorgen und Hoffnungen\, die wir mit der Europäischen Union verbinden? \nDie SPD Seligenstadt hat sich gemeinsam mit dem SPD-Bezirk Hessen-Süd und SPD Kreis Offenbach zum Ziel gesetzt\, sich darüber mit den Bürgerinnen und Bürgern auszutauschen. Am Samstag\, den 18. Mai macht die Tour „Lass mal reden\, Europa.“ Station in Seligenstadt. Mit dabei sein werden u.a. die Europakandidatin Anna Kristina Tanev und der Bundestagsabgeordnete Jens Zimmermann sowie Teile des Vorstandes der SPD Seligenstadt. \nAlle interessierten Bürgerinnen und Bürger haben die Möglichkeit ihre Fragen zu Europa loszuwerden und sich an Infowänden über die EU zu informieren. „Es geht darum mit den Bürger/innen ins Gespräch zu kommen und über drei zentrale Fragen zu sprechen: Was macht Europa für dich aus? Was findest du gut? Was soll sich ändern?“\, so der stellv. SPD-Ortsvereinsvorsitzende Hans-Peter Kronenberger (SPD Seligenstadt). \nDie SPD Seligenstadt freut sich\, darüber mit Ihnen ins Gespräch zu kommen. Seien Sie dabei und lassen Sie uns reden am Samstag\, den 18. Mai von 15 bis 18 Uhr auf dem Marktplatz in Seligenstadt.
URL:https://www.spd-seligenstadt.de/event/lass-mal-reden-europa/
LOCATION:Marktplatz Seligenstadt\, Seligenstadt\, Hessen\, 63500\, Deutschland
CATEGORIES:Wahlen
ATTACH;FMTTYPE=image/jpeg:https://www.spd-seligenstadt.de/wp-content/uploads/60121049_2210936315648713_3822613694798364672_o.jpg
END:VEVENT
END:VCALENDAR