BEGIN:VCALENDAR
VERSION:2.0
PRODID:-//SPD Seligenstadt - ECPv6.15.20//NONSGML v1.0//EN
CALSCALE:GREGORIAN
METHOD:PUBLISH
X-ORIGINAL-URL:https://www.spd-seligenstadt.de
X-WR-CALDESC:Veranstaltungen für SPD Seligenstadt
REFRESH-INTERVAL;VALUE=DURATION:PT1H
X-Robots-Tag:noindex
X-PUBLISHED-TTL:PT1H
BEGIN:VTIMEZONE
TZID:Europe/Berlin
BEGIN:DAYLIGHT
TZOFFSETFROM:+0100
TZOFFSETTO:+0200
TZNAME:CEST
DTSTART:20190331T010000
END:DAYLIGHT
BEGIN:STANDARD
TZOFFSETFROM:+0200
TZOFFSETTO:+0100
TZNAME:CET
DTSTART:20191027T010000
END:STANDARD
BEGIN:DAYLIGHT
TZOFFSETFROM:+0100
TZOFFSETTO:+0200
TZNAME:CEST
DTSTART:20200329T010000
END:DAYLIGHT
BEGIN:STANDARD
TZOFFSETFROM:+0200
TZOFFSETTO:+0100
TZNAME:CET
DTSTART:20201025T010000
END:STANDARD
BEGIN:DAYLIGHT
TZOFFSETFROM:+0100
TZOFFSETTO:+0200
TZNAME:CEST
DTSTART:20210328T010000
END:DAYLIGHT
BEGIN:STANDARD
TZOFFSETFROM:+0200
TZOFFSETTO:+0100
TZNAME:CET
DTSTART:20211031T010000
END:STANDARD
END:VTIMEZONE
BEGIN:VEVENT
DTSTART;TZID=Europe/Berlin:20201012T193000
DTEND;TZID=Europe/Berlin:20201012T213000
DTSTAMP:20260422T083921
CREATED:20200928T064417Z
LAST-MODIFIED:20201008T161525Z
UID:5810-1602531000-1602538200@www.spd-seligenstadt.de
SUMMARY:Vorstandssitzung 12.10.2020
DESCRIPTION:Vorstandssitzungen sind für SPD-Mitglieder öffentlich.
URL:https://www.spd-seligenstadt.de/event/vorstandssitzung-7/
LOCATION:Zu den drei Kronen\, Freihofplatz 4\, Seligenstadt\, Hessen\, 63500\, Deutschland
ATTACH;FMTTYPE=image/jpeg:https://www.spd-seligenstadt.de/wp-content/uploads/CIMG1076_GerhardAlbrecht_JelenaEbert_k.jpg
END:VEVENT
END:VCALENDAR