BEGIN:VCALENDAR
VERSION:2.0
PRODID:-//SPD Seligenstadt - ECPv6.15.20//NONSGML v1.0//EN
CALSCALE:GREGORIAN
METHOD:PUBLISH
X-WR-CALNAME:SPD Seligenstadt
X-ORIGINAL-URL:https://www.spd-seligenstadt.de
X-WR-CALDESC:Veranstaltungen für SPD Seligenstadt
REFRESH-INTERVAL;VALUE=DURATION:PT1H
X-Robots-Tag:noindex
X-PUBLISHED-TTL:PT1H
BEGIN:VTIMEZONE
TZID:Europe/Berlin
BEGIN:DAYLIGHT
TZOFFSETFROM:+0100
TZOFFSETTO:+0200
TZNAME:CEST
DTSTART:20200329T010000
END:DAYLIGHT
BEGIN:STANDARD
TZOFFSETFROM:+0200
TZOFFSETTO:+0100
TZNAME:CET
DTSTART:20201025T010000
END:STANDARD
BEGIN:DAYLIGHT
TZOFFSETFROM:+0100
TZOFFSETTO:+0200
TZNAME:CEST
DTSTART:20210328T010000
END:DAYLIGHT
BEGIN:STANDARD
TZOFFSETFROM:+0200
TZOFFSETTO:+0100
TZNAME:CET
DTSTART:20211031T010000
END:STANDARD
BEGIN:DAYLIGHT
TZOFFSETFROM:+0100
TZOFFSETTO:+0200
TZNAME:CEST
DTSTART:20220327T010000
END:DAYLIGHT
BEGIN:STANDARD
TZOFFSETFROM:+0200
TZOFFSETTO:+0100
TZNAME:CET
DTSTART:20221030T010000
END:STANDARD
END:VTIMEZONE
BEGIN:VEVENT
DTSTART;TZID=Europe/Berlin:20210710T180000
DTEND;TZID=Europe/Berlin:20210710T210000
DTSTAMP:20260425T132238
CREATED:20210709T161745Z
LAST-MODIFIED:20210709T161745Z
UID:7312-1625940000-1625950800@www.spd-seligenstadt.de
SUMMARY:Michael Gerheim lädt zu Gesprächen am MainStrand
DESCRIPTION:Um der Frage nachzugehen\, was den Bürgerinnen und Bürgern gerade besonders auf dem Herzen liegt\, lädt Erster Stadtrat Michael Gerheim zum Gespräch ein. Auf seiner Sommertour durch Seligenstadt möchte er für alle ansprechbar sein. \n    „Oft fehlt im Alltag die Zeit\, um ausführlich über die Anliegen der Seligenstädter zu sprechen. Mit den Sommergesprächen möchte ich mir für Sie die Zeit nehmen\, um gut zuzuhören und den Austausch zu vertiefen.“ \nEs sind lockere Gespräche ohne vorherige Anmeldung geplant. Man kann sich einfach dazusetzen. \nLos geht es am Samstag\, 10.7. um 18 Uhr am Main-Strand (Festplatz am Mainufer).
URL:https://www.spd-seligenstadt.de/event/michael-gerheim-laedt-zu-gespraechen-am-mainstrand/
LOCATION:Festplatz in Seligenstadt am Main\, Seligenstadt\, 63500\, Deutschland
ATTACH;FMTTYPE=image/jpeg:https://www.spd-seligenstadt.de/wp-content/uploads/01-michaelgerheim.jpg
END:VEVENT
END:VCALENDAR