BEGIN:VCALENDAR
VERSION:2.0
PRODID:-//SPD Seligenstadt - ECPv6.15.20//NONSGML v1.0//EN
CALSCALE:GREGORIAN
METHOD:PUBLISH
X-WR-CALNAME:SPD Seligenstadt
X-ORIGINAL-URL:https://www.spd-seligenstadt.de
X-WR-CALDESC:Veranstaltungen für SPD Seligenstadt
REFRESH-INTERVAL;VALUE=DURATION:PT1H
X-Robots-Tag:noindex
X-PUBLISHED-TTL:PT1H
BEGIN:VTIMEZONE
TZID:Europe/Berlin
BEGIN:DAYLIGHT
TZOFFSETFROM:+0100
TZOFFSETTO:+0200
TZNAME:CEST
DTSTART:20200329T010000
END:DAYLIGHT
BEGIN:STANDARD
TZOFFSETFROM:+0200
TZOFFSETTO:+0100
TZNAME:CET
DTSTART:20201025T010000
END:STANDARD
BEGIN:DAYLIGHT
TZOFFSETFROM:+0100
TZOFFSETTO:+0200
TZNAME:CEST
DTSTART:20210328T010000
END:DAYLIGHT
BEGIN:STANDARD
TZOFFSETFROM:+0200
TZOFFSETTO:+0100
TZNAME:CET
DTSTART:20211031T010000
END:STANDARD
BEGIN:DAYLIGHT
TZOFFSETFROM:+0100
TZOFFSETTO:+0200
TZNAME:CEST
DTSTART:20220327T010000
END:DAYLIGHT
BEGIN:STANDARD
TZOFFSETFROM:+0200
TZOFFSETTO:+0100
TZNAME:CET
DTSTART:20221030T010000
END:STANDARD
END:VTIMEZONE
BEGIN:VEVENT
DTSTART;TZID=Europe/Berlin:20210715T190000
DTEND;TZID=Europe/Berlin:20210715T210000
DTSTAMP:20260425T132329
CREATED:20210709T170743Z
LAST-MODIFIED:20210715T140458Z
UID:7317-1626375600-1626382800@www.spd-seligenstadt.de
SUMMARY:Michael Gerheim zum Gespräch im Blauen Bembel
DESCRIPTION:Um der Frage nachzugehen\, was den Bürgerinnen und Bürgern gerade besonders auf dem Herzen liegt\, lädt Erster Stadtrat Michael Gerheim zum Gespräch ein. Auf seiner Sommertour durch Seligenstadt möchte er für alle ansprechbar sein. \n„Oft fehlt im Alltag die Zeit\, um ausführlich über die Anliegen der Seligenstädter zu sprechen. Mit den Sommergesprächen möchte ich mir für Sie die Zeit nehmen\, um gut zuzuhören und den Austausch zu vertiefen.“ \nEs sollen lockere Gespräche ohne vorherige Anmeldung sein. Man kann sich einfach dazusetzen. \nAm Donnerstag\, 15.7. ist Michael Gerheim im ehemaligen Anker\, nun „Herzhaft & Süß“\, an der Aschaffenburger Straße gegenüber dem Alten Friedhof\, nahe der evangelischen Kirche\, in der Gaststätte „Zum Blauen Bembel“ der SpVgg in der Zellhäuser Straße ab 19 Uhr.
URL:https://www.spd-seligenstadt.de/event/michael-gerheim-zum-gespraech-im-anker/
ATTACH;FMTTYPE=image/jpeg:https://www.spd-seligenstadt.de/wp-content/uploads/01-michaelgerheim.jpg
END:VEVENT
END:VCALENDAR