BEGIN:VCALENDAR
VERSION:2.0
PRODID:-//SPD Seligenstadt - ECPv6.15.20//NONSGML v1.0//EN
CALSCALE:GREGORIAN
METHOD:PUBLISH
X-WR-CALNAME:SPD Seligenstadt
X-ORIGINAL-URL:https://www.spd-seligenstadt.de
X-WR-CALDESC:Veranstaltungen für SPD Seligenstadt
REFRESH-INTERVAL;VALUE=DURATION:PT1H
X-Robots-Tag:noindex
X-PUBLISHED-TTL:PT1H
BEGIN:VTIMEZONE
TZID:Europe/Berlin
BEGIN:DAYLIGHT
TZOFFSETFROM:+0100
TZOFFSETTO:+0200
TZNAME:CEST
DTSTART:20200329T010000
END:DAYLIGHT
BEGIN:STANDARD
TZOFFSETFROM:+0200
TZOFFSETTO:+0100
TZNAME:CET
DTSTART:20201025T010000
END:STANDARD
BEGIN:DAYLIGHT
TZOFFSETFROM:+0100
TZOFFSETTO:+0200
TZNAME:CEST
DTSTART:20210328T010000
END:DAYLIGHT
BEGIN:STANDARD
TZOFFSETFROM:+0200
TZOFFSETTO:+0100
TZNAME:CET
DTSTART:20211031T010000
END:STANDARD
BEGIN:DAYLIGHT
TZOFFSETFROM:+0100
TZOFFSETTO:+0200
TZNAME:CEST
DTSTART:20220327T010000
END:DAYLIGHT
BEGIN:STANDARD
TZOFFSETFROM:+0200
TZOFFSETTO:+0100
TZNAME:CET
DTSTART:20221030T010000
END:STANDARD
END:VTIMEZONE
BEGIN:VEVENT
DTSTART;TZID=Europe/Berlin:20210731T163000
DTEND;TZID=Europe/Berlin:20210731T183000
DTSTAMP:20260425T133125
CREATED:20210728T135811Z
LAST-MODIFIED:20210730T170738Z
UID:7339-1627749000-1627756200@www.spd-seligenstadt.de
SUMMARY:Michael Gerheim lädt zum Tag der Themen
DESCRIPTION:Unter dem Motto „Zuhören\, mitnehmen und umsetzen“ möchte sich Erster Stadtrat Michael Gerheim am Samstag\, 31. Juli\, um 16.30 Uhr auf dem Platz der TuS Klein-Welzheim\, Jakob-Hetzer-Straße\, mit Vereinen und Bürgern austauschen und einen Einblick in seine Arbeit geben. \nWer sich aktiv am Samstag mit einem Beitrag einbringen will\, sollte dies bis Freitagmittag per Mail an team@michaelgerheim.de melden. \nWeitere Informationen unter www.michaelgerheim.de
URL:https://www.spd-seligenstadt.de/event/michael-gerheim-laedt-zum-tag-der-themen/
LOCATION:Sportplatz der TuS Klein-Welzheim\, Jakob-Hetzer-Straße\, Seligenstadt\, 63500\, Deutschland
ATTACH;FMTTYPE=image/jpeg:https://www.spd-seligenstadt.de/wp-content/uploads/buergermeister-seligenstadt-michael-gerheim.jpg
END:VEVENT
END:VCALENDAR