BEGIN:VCALENDAR
VERSION:2.0
PRODID:-//SPD Seligenstadt - ECPv6.15.20//NONSGML v1.0//EN
CALSCALE:GREGORIAN
METHOD:PUBLISH
X-ORIGINAL-URL:https://www.spd-seligenstadt.de
X-WR-CALDESC:Veranstaltungen für SPD Seligenstadt
REFRESH-INTERVAL;VALUE=DURATION:PT1H
X-Robots-Tag:noindex
X-PUBLISHED-TTL:PT1H
BEGIN:VTIMEZONE
TZID:Europe/Berlin
BEGIN:DAYLIGHT
TZOFFSETFROM:+0100
TZOFFSETTO:+0200
TZNAME:CEST
DTSTART:20200329T010000
END:DAYLIGHT
BEGIN:STANDARD
TZOFFSETFROM:+0200
TZOFFSETTO:+0100
TZNAME:CET
DTSTART:20201025T010000
END:STANDARD
BEGIN:DAYLIGHT
TZOFFSETFROM:+0100
TZOFFSETTO:+0200
TZNAME:CEST
DTSTART:20210328T010000
END:DAYLIGHT
BEGIN:STANDARD
TZOFFSETFROM:+0200
TZOFFSETTO:+0100
TZNAME:CET
DTSTART:20211031T010000
END:STANDARD
BEGIN:DAYLIGHT
TZOFFSETFROM:+0100
TZOFFSETTO:+0200
TZNAME:CEST
DTSTART:20220327T010000
END:DAYLIGHT
BEGIN:STANDARD
TZOFFSETFROM:+0200
TZOFFSETTO:+0100
TZNAME:CET
DTSTART:20221030T010000
END:STANDARD
END:VTIMEZONE
BEGIN:VEVENT
DTSTART;TZID=Europe/Berlin:20210813T173000
DTEND;TZID=Europe/Berlin:20210813T183000
DTSTAMP:20260425T152214
CREATED:20210808T132931Z
LAST-MODIFIED:20210808T132931Z
UID:7366-1628875800-1628879400@www.spd-seligenstadt.de
SUMMARY:Diskutiere das Lieferkettengesetz
DESCRIPTION:mit Dr. Sascha Raabe und Dr. Jens Zimmermann\nam Freitag 13. August 2021\, von 17:30 bis 18:30 Uhr\,\nauf dem Bubenschulhof südöstlich des Hans-Memling-Hauses (zu erreichen über den Uferweg Seligenstadts).  \nmehr siehe  https://www.jens-zimmermann.org/ein-faires-lieferkettengesetz-diskussion-mit-dr-sascha-raabe-und-dr-jens-zimmermann-am-13-august/
URL:https://www.spd-seligenstadt.de/event/diskutiere-das-lieferkettengesetz/
LOCATION:Bubenschulhof der Hans-Memling-Schule\, Große Maingasse 7\, Seligenstadt\, Hessen\, 63500\, Deutschland
ATTACH;FMTTYPE=image/jpeg:https://www.spd-seligenstadt.de/wp-content/uploads/2021_DresSaschaRaabe-JensZimmermann-scaled.jpg
ORGANIZER;CN="Dr. Jens Zimmermann%2C Bundestagsabgeordneter":MAILTO:jens.zimmermann@bundestag.de
END:VEVENT
BEGIN:VEVENT
DTSTART;TZID=Europe/Berlin:20210813T190000
DTEND;TZID=Europe/Berlin:20210813T210000
DTSTAMP:20260425T152214
CREATED:20210810T195305Z
LAST-MODIFIED:20210810T200342Z
UID:7369-1628881200-1628888400@www.spd-seligenstadt.de
SUMMARY:Hochwasser + Starkregen: Infoabend im Riesen
DESCRIPTION:Am 13.8. wollen Michael Gerheim und die SPD in einem gemeinsamen Abend darüber informieren\,\nwelche Gefahren bei solchen extremen Ereignissen entstehen\, welche Bereiche gefährdet sind und welche Maßnahmen zur Gefahrenabwehr ergriffen wurden.\n „Neben den technischen Maßnahmen können wir besonders auf das starke ehrenamtliche Engagement der Helferinnen und Helfer in den drei Freiwilligen Feuerwehren\, der DLRG\, des THWs und des DRKs zählen. Zusätzlich sind auch bei der Stadt weitere Maßnahmen in Planung\, die ich am Freitagabend vorstellen werde.“ \nNeben Stadtrat Gerheim wird Marius Müller als Strömungsretter und Zugführer des Katastrophenschutzes Einblicke in das praktische Vorgehen und die Herausforderungen für die Bevölkerung und Einsatzkräfte in solchen Lagen geben. \nDie Veranstaltung findet am Freitag\, 13.8. um 19 Uhr  im großen Riesen-Saal  statt.\nAlle Seligenstädterinnen und Seligenstädter sind eingeladen.
URL:https://www.spd-seligenstadt.de/event/hochwasser-starkregen-infoabend-im-riesen/
LOCATION:Riesensaal
ATTACH;FMTTYPE=image/jpeg:https://www.spd-seligenstadt.de/wp-content/uploads/20190818_nachTornado.jpg
END:VEVENT
END:VCALENDAR