BEGIN:VCALENDAR
VERSION:2.0
PRODID:-//SPD Seligenstadt - ECPv6.15.20//NONSGML v1.0//EN
CALSCALE:GREGORIAN
METHOD:PUBLISH
X-ORIGINAL-URL:https://www.spd-seligenstadt.de
X-WR-CALDESC:Veranstaltungen für SPD Seligenstadt
REFRESH-INTERVAL;VALUE=DURATION:PT1H
X-Robots-Tag:noindex
X-PUBLISHED-TTL:PT1H
BEGIN:VTIMEZONE
TZID:Europe/Berlin
BEGIN:DAYLIGHT
TZOFFSETFROM:+0100
TZOFFSETTO:+0200
TZNAME:CEST
DTSTART:20200329T010000
END:DAYLIGHT
BEGIN:STANDARD
TZOFFSETFROM:+0200
TZOFFSETTO:+0100
TZNAME:CET
DTSTART:20201025T010000
END:STANDARD
BEGIN:DAYLIGHT
TZOFFSETFROM:+0100
TZOFFSETTO:+0200
TZNAME:CEST
DTSTART:20210328T010000
END:DAYLIGHT
BEGIN:STANDARD
TZOFFSETFROM:+0200
TZOFFSETTO:+0100
TZNAME:CET
DTSTART:20211031T010000
END:STANDARD
BEGIN:DAYLIGHT
TZOFFSETFROM:+0100
TZOFFSETTO:+0200
TZNAME:CEST
DTSTART:20220327T010000
END:DAYLIGHT
BEGIN:STANDARD
TZOFFSETFROM:+0200
TZOFFSETTO:+0100
TZNAME:CET
DTSTART:20221030T010000
END:STANDARD
END:VTIMEZONE
BEGIN:VEVENT
DTSTART;TZID=Europe/Berlin:20210903T110000
DTEND;TZID=Europe/Berlin:20210903T180000
DTSTAMP:20260425T152214
CREATED:20210824T163925Z
LAST-MODIFIED:20210824T165203Z
UID:7391-1630666800-1630692000@www.spd-seligenstadt.de
SUMMARY:Pop-Up-Fest  Froschhausen
DESCRIPTION:Pop-Up-Fest Froschhausen am Freitag  3. September 2021:\n— ab 11 Uhr  an der neuen Kita Am Zippenfeld\,\n— ab 15 Uhr  Infostand am Netto-Markt Froschhausen.
URL:https://www.spd-seligenstadt.de/event/pop-up-fest-froschhausen-am-3-september/
LOCATION:vor dem Netto-Markt in Froschhausen
ATTACH;FMTTYPE=image/jpeg:https://www.spd-seligenstadt.de/wp-content/uploads/CIMG2575a_MGerheim_Ayla-scaled.jpg
END:VEVENT
END:VCALENDAR