BEGIN:VCALENDAR
VERSION:2.0
PRODID:-//SPD Seligenstadt - ECPv6.15.20//NONSGML v1.0//EN
CALSCALE:GREGORIAN
METHOD:PUBLISH
X-ORIGINAL-URL:https://www.spd-seligenstadt.de
X-WR-CALDESC:Veranstaltungen für SPD Seligenstadt
REFRESH-INTERVAL;VALUE=DURATION:PT1H
X-Robots-Tag:noindex
X-PUBLISHED-TTL:PT1H
BEGIN:VTIMEZONE
TZID:Europe/Berlin
BEGIN:DAYLIGHT
TZOFFSETFROM:+0100
TZOFFSETTO:+0200
TZNAME:CEST
DTSTART:20200329T010000
END:DAYLIGHT
BEGIN:STANDARD
TZOFFSETFROM:+0200
TZOFFSETTO:+0100
TZNAME:CET
DTSTART:20201025T010000
END:STANDARD
BEGIN:DAYLIGHT
TZOFFSETFROM:+0100
TZOFFSETTO:+0200
TZNAME:CEST
DTSTART:20210328T010000
END:DAYLIGHT
BEGIN:STANDARD
TZOFFSETFROM:+0200
TZOFFSETTO:+0100
TZNAME:CET
DTSTART:20211031T010000
END:STANDARD
BEGIN:DAYLIGHT
TZOFFSETFROM:+0100
TZOFFSETTO:+0200
TZNAME:CEST
DTSTART:20220327T010000
END:DAYLIGHT
BEGIN:STANDARD
TZOFFSETFROM:+0200
TZOFFSETTO:+0100
TZNAME:CET
DTSTART:20221030T010000
END:STANDARD
END:VTIMEZONE
BEGIN:VEVENT
DTSTART;TZID=Europe/Berlin:20210925T100000
DTEND;TZID=Europe/Berlin:20210925T130000
DTSTAMP:20260425T170303
CREATED:20210824T172308Z
LAST-MODIFIED:20210919T151719Z
UID:7401-1632564000-1632574800@www.spd-seligenstadt.de
SUMMARY:Infostand Marktplatz
DESCRIPTION:Auch am Samstag 25.September 2021\, dem Tag vor der Wahl\,\nwird von 10 bis 13 Uhr ein Infostand auf dem Marktplatz sein.
URL:https://www.spd-seligenstadt.de/event/infostand-marktplatz-2/
LOCATION:Marktplatz
ATTACH;FMTTYPE=image/jpeg:https://www.spd-seligenstadt.de/wp-content/uploads/buergermeister-seligenstadt-michael-gerheim.jpg
END:VEVENT
BEGIN:VEVENT
DTSTART;TZID=Europe/Berlin:20210925T201500
DTEND;TZID=Europe/Berlin:20210925T235500
DTSTAMP:20260425T170303
CREATED:20210921T100028Z
LAST-MODIFIED:20210921T110348Z
UID:7464-1632600900-1632614100@www.spd-seligenstadt.de
SUMMARY:Federweißer-Tour mit den Jusos
DESCRIPTION:Am Abend vor der Bürgermeister-\, Landrats- und Bundestagswahl laden Jusos Ostkreis aus Seligenstadt\, Hainburg und Mainhausen zur inzwischen traditionellen Federweißer- und Kneipentour durch Froschhausen und Seligenstadt ein. \nLos geht’s zur Prime Time um 20:15 Uhr im Iguana in Froschhausen\, wo es auch leckere Burger gibt. Danach führt die Tour mit Fahrrad oder Hopper und Federweißer als Wegzehrung in die Seligenstädter Innenstadt zu Klein’s Brauhaus am Bahnhof und danach zur Pizzeria Puglia. Letzter Stopp ist wie üblich der Old Smuggler in der Aschaffenburger Straße. \nEine Anmeldung ist nicht notwendig\, hilft allerdings bei der Planung. Es gilt 3G (geimpft/genesen/getestet). \nErster Stadtrat und Bürgermeisterkandidat Michael Gerheim und Fraktionsmitglieder der SPD werden dabei sein und Fragen beantworten.
URL:https://www.spd-seligenstadt.de/event/federweisser-tour-mit-den-jusos/
LOCATION:Iguana Froschhausen\, Seligenstädter Straße 16\, Seligenstadt - Froschhausen\, 63500\, Deutschland
CATEGORIES:Jusos
ATTACH;FMTTYPE=image/jpeg:https://www.spd-seligenstadt.de/wp-content/uploads/jusos-seligenstadt-stammtisch.jpg
ORGANIZER;CN="Jusos Ostkreis - Seligenstadt/Hainburg/Mainhausen":MAILTO:info@jusos-seligenstadt.de
END:VEVENT
END:VCALENDAR