BEGIN:VCALENDAR
VERSION:2.0
PRODID:-//SPD Seligenstadt - ECPv6.15.20//NONSGML v1.0//EN
CALSCALE:GREGORIAN
METHOD:PUBLISH
X-ORIGINAL-URL:https://www.spd-seligenstadt.de
X-WR-CALDESC:Veranstaltungen für SPD Seligenstadt
REFRESH-INTERVAL;VALUE=DURATION:PT1H
X-Robots-Tag:noindex
X-PUBLISHED-TTL:PT1H
BEGIN:VTIMEZONE
TZID:Europe/Berlin
BEGIN:DAYLIGHT
TZOFFSETFROM:+0100
TZOFFSETTO:+0200
TZNAME:CEST
DTSTART:20240331T010000
END:DAYLIGHT
BEGIN:STANDARD
TZOFFSETFROM:+0200
TZOFFSETTO:+0100
TZNAME:CET
DTSTART:20241027T010000
END:STANDARD
BEGIN:DAYLIGHT
TZOFFSETFROM:+0100
TZOFFSETTO:+0200
TZNAME:CEST
DTSTART:20250330T010000
END:DAYLIGHT
BEGIN:STANDARD
TZOFFSETFROM:+0200
TZOFFSETTO:+0100
TZNAME:CET
DTSTART:20251026T010000
END:STANDARD
BEGIN:DAYLIGHT
TZOFFSETFROM:+0100
TZOFFSETTO:+0200
TZNAME:CEST
DTSTART:20260329T010000
END:DAYLIGHT
BEGIN:STANDARD
TZOFFSETFROM:+0200
TZOFFSETTO:+0100
TZNAME:CET
DTSTART:20261025T010000
END:STANDARD
END:VTIMEZONE
BEGIN:VEVENT
DTSTART;TZID=Europe/Berlin:20250127T180000
DTEND;TZID=Europe/Berlin:20250127T200000
DTSTAMP:20260424T165229
CREATED:20250123T100232Z
LAST-MODIFIED:20250123T101222Z
UID:12195-1738000800-1738008000@www.spd-seligenstadt.de
SUMMARY:Der Mann mit dem Zollstock kommt !
DESCRIPTION:Die SPD AG60plus Kreis Offenbach und Stadt Offenbach laden ein: \nLothar Binding kommt!\nDer Mann mit dem Zollstock unterstützt unsere Bundestagskandidaten\nder Wahlkreise 184 & 186 Helena Wolf und Dr. Jens Zimmermann \n „Achtsam sein – alle Generationen im Blick“ \nWann: Montag\, 27. Januar 2025 um 18.oo Uhr\nWo:     Bürgerhaus/CAPITOL Dietzenbach\, Europaplatz 1\n           63128 Dietzenbach \nWir freuen uns auf Euer Kommen.\nDie S-2 fährt bis Dietzenbach Mitte\, oder der Schnellbus OF-99.\nFür Getränke ist gesorgt\, auch Parkplätze sind reichlich vorhanden. \nSeid dabei und unterstützt Helena und Jens\, damit\nStadt und Landkreis Offenbach in Berlin zu hören sind. \nSolidarische Grüße  \nMonika Lehr-Horch                              \nVorsitzende AG60plus Kreis OF          \nRosa Kötter\nVorsitzende AG60plus Stadt OF
URL:https://www.spd-seligenstadt.de/event/der-mann-mit-dem-zollstock-kommt/
LOCATION:Bürgerhaus/CAPITOL Dietzenbach\, Europaplatz 1\, Dietzenbach\, 63128
CATEGORIES:AK 60plus
ATTACH;FMTTYPE=image/jpeg:https://www.spd-seligenstadt.de/wp-content/uploads/Binding-Lothar_mit-Zollstock-900x938-1.jpg
END:VEVENT
END:VCALENDAR