BEGIN:VCALENDAR
VERSION:2.0
PRODID:-//SPD Seligenstadt - ECPv6.15.20//NONSGML v1.0//EN
CALSCALE:GREGORIAN
METHOD:PUBLISH
X-WR-CALNAME:SPD Seligenstadt
X-ORIGINAL-URL:https://www.spd-seligenstadt.de
X-WR-CALDESC:Veranstaltungen für SPD Seligenstadt
REFRESH-INTERVAL;VALUE=DURATION:PT1H
X-Robots-Tag:noindex
X-PUBLISHED-TTL:PT1H
BEGIN:VTIMEZONE
TZID:Europe/Berlin
BEGIN:DAYLIGHT
TZOFFSETFROM:+0100
TZOFFSETTO:+0200
TZNAME:CEST
DTSTART:20180325T010000
END:DAYLIGHT
BEGIN:STANDARD
TZOFFSETFROM:+0200
TZOFFSETTO:+0100
TZNAME:CET
DTSTART:20181028T010000
END:STANDARD
BEGIN:DAYLIGHT
TZOFFSETFROM:+0100
TZOFFSETTO:+0200
TZNAME:CEST
DTSTART:20190331T010000
END:DAYLIGHT
BEGIN:STANDARD
TZOFFSETFROM:+0200
TZOFFSETTO:+0100
TZNAME:CET
DTSTART:20191027T010000
END:STANDARD
BEGIN:DAYLIGHT
TZOFFSETFROM:+0100
TZOFFSETTO:+0200
TZNAME:CEST
DTSTART:20200329T010000
END:DAYLIGHT
BEGIN:STANDARD
TZOFFSETFROM:+0200
TZOFFSETTO:+0100
TZNAME:CET
DTSTART:20201025T010000
END:STANDARD
END:VTIMEZONE
BEGIN:VEVENT
DTSTART;TZID=Europe/Berlin:20191010T190000
DTEND;TZID=Europe/Berlin:20191010T220000
DTSTAMP:20260421T155503
CREATED:20191006T205726Z
LAST-MODIFIED:20191006T225556Z
UID:5326-1570734000-1570744800@www.spd-seligenstadt.de
SUMMARY:Stammtisch am 10.10.2019 im Gasthaus 'Zur guten Quelle' in Seligenstadt
DESCRIPTION:Der SPD-Ortsverein Seligenstadt lädt alle Bürger ganz herzlich zu seinem Oktober-Stammtisch ein\, am Donnerstag\, den 10. Oktober 2019\, ab 19 Uhr.  \nEr findet diesmal in Seligenstadt im Gasthaus ‚Zur guten Quelle‘ statt.\n(Die Adresse ist Grabenstraße 20 in 63500 Seligenstadt.) \nThemen werden nicht nur die Zukunft der Hans-Memling-Schule sein\, sondern auch aktuelle Ereignisse in Seligenstadt.
URL:https://www.spd-seligenstadt.de/event/stammtisch-am-10-10-2019/
LOCATION:Gasthaus ‚Zur guten Quelle‘\, Grabenstrasse 20\, Seligenstadt\, 63500
CATEGORIES:Stammtisch
ATTACH;FMTTYPE=image/jpeg:https://www.spd-seligenstadt.de/wp-content/uploads/2019-10-10-Stammtisch.jpg
END:VEVENT
BEGIN:VEVENT
DTSTART;TZID=Europe/Berlin:20191020T100000
DTEND;TZID=Europe/Berlin:20191020T140000
DTSTAMP:20260421T155503
CREATED:20191008T090801Z
LAST-MODIFIED:20191008T091644Z
UID:5343-1571565600-1571580000@www.spd-seligenstadt.de
SUMMARY:Grenzgang 2019
DESCRIPTION:Tradition des Grenzganges wird 2019 fortgesetzt\nAuch in diesem Jahr findet der Grenzgang in Seligenstadt unter der Führung von Bürgermeister a.D. Rolf Wenzel wieder statt. \nSchon im 28. Jahr wird der Grenzgang in Seligenstadt angeboten und von vielen Teilnehmern Jahr für Jahr gerne angenommen. Die Grenzgänge werden immer wieder für interessant befunden und locken\, wie beim Jubiläumsgrenzgang 2016\, weit über 200 Besucher an. Die Grenzgänge informieren über den Gemeindewald und Feld und über die Geschichte unserer Stadt. \nDie Initiative\, die Idee brachte der damalige Bürgermeister Rolf Wenzel aus seiner Heimatgemeinde mit; dort fand seit Jahrzehnten gleichfalls ein Grenzgang statt. Dabei wurde immer ein Teil der Grenze abgegangen und geprüft\, stehen die Grenzsteine noch und wie ist der Zustand des Gemeindewaldes. \nAbgrundet wird der Grenzgang mit einer Zwischenrast\, bei dem Erfrischungsgetränke gereicht werden und die Teilnehmer können dort auch mit einer netten Überraschung rechnen.\nDer Grenzgang endet schließlich mit Musik und der traditionellen Erbsensuppe mit Würstchen. \nAuch in diesem Jahr verspricht der Grenzgang somit wieder interessant zu werden. \nTreffpunkt der Grenzgänger ist am Sonntag\, 20. Oktober 2019\, um 10.00 Uhr am „Eichwaldhof“\, Am Eichwald 5 in Seligenstadt.
URL:https://www.spd-seligenstadt.de/event/grenzgang-2019/
LOCATION:Eichwaldhof\, Am Eichwald 5\, Seligenstadt\, 63500\, Deutschland
CATEGORIES:Grenzgang
ATTACH;FMTTYPE=image/jpeg:https://www.spd-seligenstadt.de/wp-content/uploads/2019-10-20-Grenzgang.jpg
END:VEVENT
END:VCALENDAR