BEGIN:VCALENDAR
VERSION:2.0
PRODID:-//SPD Seligenstadt - ECPv6.15.20//NONSGML v1.0//EN
CALSCALE:GREGORIAN
METHOD:PUBLISH
X-WR-CALNAME:SPD Seligenstadt
X-ORIGINAL-URL:https://www.spd-seligenstadt.de
X-WR-CALDESC:Veranstaltungen für SPD Seligenstadt
REFRESH-INTERVAL;VALUE=DURATION:PT1H
X-Robots-Tag:noindex
X-PUBLISHED-TTL:PT1H
BEGIN:VTIMEZONE
TZID:Europe/Helsinki
BEGIN:DAYLIGHT
TZOFFSETFROM:+0200
TZOFFSETTO:+0300
TZNAME:EEST
DTSTART:20230326T010000
END:DAYLIGHT
BEGIN:STANDARD
TZOFFSETFROM:+0300
TZOFFSETTO:+0200
TZNAME:EET
DTSTART:20231029T010000
END:STANDARD
BEGIN:DAYLIGHT
TZOFFSETFROM:+0200
TZOFFSETTO:+0300
TZNAME:EEST
DTSTART:20240331T010000
END:DAYLIGHT
BEGIN:STANDARD
TZOFFSETFROM:+0300
TZOFFSETTO:+0200
TZNAME:EET
DTSTART:20241027T010000
END:STANDARD
BEGIN:DAYLIGHT
TZOFFSETFROM:+0200
TZOFFSETTO:+0300
TZNAME:EEST
DTSTART:20250330T010000
END:DAYLIGHT
BEGIN:STANDARD
TZOFFSETFROM:+0300
TZOFFSETTO:+0200
TZNAME:EET
DTSTART:20251026T010000
END:STANDARD
END:VTIMEZONE
BEGIN:VEVENT
DTSTART;TZID=Europe/Helsinki:20240924T190000
DTEND;TZID=Europe/Helsinki:20240924T210000
DTSTAMP:20260420T095357
CREATED:20171022T170906Z
LAST-MODIFIED:20240829T112300Z
UID:4160-1727204400-1727211600@www.spd-seligenstadt.de
SUMMARY:Mitgliederversammlung in der TGS-Gaststätte
DESCRIPTION:Die Mitgliederversammlung des Ortsvereins der SPD Seligenstadt \nist am Diensttag 24. September 2024\,   ab 19:00 Uhr \nim Saal der TGS-Gaststätte „Akdeniz“\, Grabenstr./Ecke Jahnstr. in Seligenstadt.
URL:https://www.spd-seligenstadt.de/event/mitgliederversammlung-in-den-3-kronen/
LOCATION:Kolleg der TGS Seligenstadt 1895 e.V.\, Grabenstraße 48\, Seligenstadt\, Hessen\, 63500\, Deutschland
ATTACH;FMTTYPE=image/jpeg:https://www.spd-seligenstadt.de/wp-content/uploads/SAM_3726-e1508692006556.jpg
END:VEVENT
END:VCALENDAR