BEGIN:VCALENDAR
VERSION:2.0
PRODID:-//SPD Seligenstadt - ECPv6.15.20//NONSGML v1.0//EN
CALSCALE:GREGORIAN
METHOD:PUBLISH
X-ORIGINAL-URL:https://www.spd-seligenstadt.de
X-WR-CALDESC:Veranstaltungen für SPD Seligenstadt
REFRESH-INTERVAL;VALUE=DURATION:PT1H
X-Robots-Tag:noindex
X-PUBLISHED-TTL:PT1H
BEGIN:VTIMEZONE
TZID:Europe/Berlin
BEGIN:DAYLIGHT
TZOFFSETFROM:+0100
TZOFFSETTO:+0200
TZNAME:CEST
DTSTART:20230326T010000
END:DAYLIGHT
BEGIN:STANDARD
TZOFFSETFROM:+0200
TZOFFSETTO:+0100
TZNAME:CET
DTSTART:20231029T010000
END:STANDARD
BEGIN:DAYLIGHT
TZOFFSETFROM:+0100
TZOFFSETTO:+0200
TZNAME:CEST
DTSTART:20240331T010000
END:DAYLIGHT
BEGIN:STANDARD
TZOFFSETFROM:+0200
TZOFFSETTO:+0100
TZNAME:CET
DTSTART:20241027T010000
END:STANDARD
BEGIN:DAYLIGHT
TZOFFSETFROM:+0100
TZOFFSETTO:+0200
TZNAME:CEST
DTSTART:20250330T010000
END:DAYLIGHT
BEGIN:STANDARD
TZOFFSETFROM:+0200
TZOFFSETTO:+0100
TZNAME:CET
DTSTART:20251026T010000
END:STANDARD
END:VTIMEZONE
BEGIN:VEVENT
DTSTART;TZID=Europe/Berlin:20241209T170000
DTEND;TZID=Europe/Berlin:20241209T190000
DTSTAMP:20260420T095412
CREATED:20241203T102554Z
LAST-MODIFIED:20241203T102554Z
UID:11644-1733763600-1733770800@www.spd-seligenstadt.de
SUMMARY:Adventspunsch bei Jens Zimmermann in Groß-Umstadt
DESCRIPTION:Auch dieses Jahr lädt unser Bundestagsabgeordneter Dr. Jens Zimmermann\nzum Adventspunsch in sein Wahlkreisbüro am Markt in Groß-Umstadt\,\nvon 17 bis 19 Uhr.
URL:https://www.spd-seligenstadt.de/event/adventspunsch-bei-jens-zimmermann-in-gross-umstadt/
LOCATION:Wahlkreisbüro am Markt in Groß-Umstadt\, Markt 3\, Groß-Umstadt\, 64823
END:VEVENT
BEGIN:VEVENT
DTSTART;TZID=Europe/Berlin:20241213T180000
DTEND;TZID=Europe/Berlin:20241213T183000
DTSTAMP:20260420T095412
CREATED:20241203T101334Z
LAST-MODIFIED:20241212T213148Z
UID:11642-1734112800-1734114600@www.spd-seligenstadt.de
SUMMARY:SPD-Fenster im Hans-Memling-Haus öffnen
DESCRIPTION:mit Dr. Jens Zimmermann MdB \nund Musik und kurzem Vortrag\nim „Mädchenschulhof“ zwischen Hans-Memling-Haus und Basilika
URL:https://www.spd-seligenstadt.de/event/spd-fenster-im-hans-memling-haus-oeffnen/
LOCATION:Hans-Memling-Haus\, Große Maingasse 7\, Seligenstadt\, Hessen\, 63500\, Deutschland
ATTACH;FMTTYPE=image/jpeg:https://www.spd-seligenstadt.de/wp-content/uploads/hans-memling-haus-seligenstadt-spd-advent.jpg
END:VEVENT
BEGIN:VEVENT
DTSTART;TZID=Europe/Berlin:20241215T110000
DTEND;TZID=Europe/Berlin:20241215T133000
DTSTAMP:20260420T095412
CREATED:20241203T103933Z
LAST-MODIFIED:20241213T142309Z
UID:11647-1734260400-1734269400@www.spd-seligenstadt.de
SUMMARY:Thema Rente\, mit Dr. Jens Zimmermann MdB und Bernd Rützel MdB
DESCRIPTION:Zwei Fachleute in Gesellschaftsraum der Wohnanlage Wallstraße. \nZur Einladung von Jens Zimmermann: \n“Wie sichern wir die Rente?” Wir vor Ort – Unsere Politik im Dialog \n \nZum Artikel der SPD: \nWie sichern wir die Rente?
URL:https://www.spd-seligenstadt.de/event/thema-rente-mit-jenszimmermann-mdb-und-berndruetzel-mdb/
LOCATION:Haus Wallstraße\, Wallstraße 38 - 42 \, Seligenstadt\, Deutschland
ATTACH;FMTTYPE=image/jpeg:https://www.spd-seligenstadt.de/wp-content/uploads/Screenshot_20241204_150328_Word.jpg
END:VEVENT
BEGIN:VEVENT
DTSTART;TZID=Europe/Berlin:20241215T143000
DTEND;TZID=Europe/Berlin:20241215T170000
DTSTAMP:20260420T095412
CREATED:20241203T205814Z
LAST-MODIFIED:20241203T205814Z
UID:11659-1734273000-1734282000@www.spd-seligenstadt.de
SUMMARY:Adventsfeier für Senioren\, veranstaltet vom DRK
DESCRIPTION:am Sonntag\, ab 14:30 Uhr\, im Riesen-Saal.
URL:https://www.spd-seligenstadt.de/event/adventsfeier-fuer-senioren-veranstaltet-vom-drk/
LOCATION:Riesensaal
CATEGORIES:AK 60plus
END:VEVENT
END:VCALENDAR