BEGIN:VCALENDAR
VERSION:2.0
PRODID:-//SPD Seligenstadt - ECPv6.15.20//NONSGML v1.0//EN
CALSCALE:GREGORIAN
METHOD:PUBLISH
X-ORIGINAL-URL:https://www.spd-seligenstadt.de
X-WR-CALDESC:Veranstaltungen für SPD Seligenstadt
REFRESH-INTERVAL;VALUE=DURATION:PT1H
X-Robots-Tag:noindex
X-PUBLISHED-TTL:PT1H
BEGIN:VTIMEZONE
TZID:Europe/Berlin
BEGIN:DAYLIGHT
TZOFFSETFROM:+0100
TZOFFSETTO:+0200
TZNAME:CEST
DTSTART:20240331T010000
END:DAYLIGHT
BEGIN:STANDARD
TZOFFSETFROM:+0200
TZOFFSETTO:+0100
TZNAME:CET
DTSTART:20241027T010000
END:STANDARD
BEGIN:DAYLIGHT
TZOFFSETFROM:+0100
TZOFFSETTO:+0200
TZNAME:CEST
DTSTART:20250330T010000
END:DAYLIGHT
BEGIN:STANDARD
TZOFFSETFROM:+0200
TZOFFSETTO:+0100
TZNAME:CET
DTSTART:20251026T010000
END:STANDARD
BEGIN:DAYLIGHT
TZOFFSETFROM:+0100
TZOFFSETTO:+0200
TZNAME:CEST
DTSTART:20260329T010000
END:DAYLIGHT
BEGIN:STANDARD
TZOFFSETFROM:+0200
TZOFFSETTO:+0100
TZNAME:CET
DTSTART:20261025T010000
END:STANDARD
END:VTIMEZONE
BEGIN:VEVENT
DTSTART;TZID=Europe/Berlin:20250407T190000
DTEND;TZID=Europe/Berlin:20250407T213000
DTSTAMP:20260420T175414
CREATED:20250401T185840Z
LAST-MODIFIED:20250401T185840Z
UID:12684-1744052400-1744061400@www.spd-seligenstadt.de
SUMMARY:Seminar zu Stammtischparolen
DESCRIPTION:im Seminarraum der 3 Kronen
URL:https://www.spd-seligenstadt.de/event/seminar-zu-stammtischparolen/
LOCATION:Zu den drei Kronen\, Freihofplatz 4\, Seligenstadt\, Hessen\, 63500\, Deutschland
END:VEVENT
BEGIN:VEVENT
DTSTART;TZID=Europe/Berlin:20250423T190000
DTEND;TZID=Europe/Berlin:20250423T210000
DTSTAMP:20260420T175414
CREATED:20250422T134553Z
LAST-MODIFIED:20250422T134649Z
UID:12829-1745434800-1745442000@www.spd-seligenstadt.de
SUMMARY:Mitreden. Diskutieren. Abstimmen — SPD Seligenstadt lädt zum Koalitions-Talk
DESCRIPTION:Liebe Genossinnen und Genossen\, \n  \nentscheidende Weichen für die politische Zukunft unserer Stadt werden gestellt — und ihr seid gefragt! \n  \nWir laden euch herzlich ein zu einer Mitgliederversammlung am Mittwoch\, den 23. April\, um 19 Uhr in die Ratsstube des Gasthauses Riesen am Marktplatz. \n  \n  \nGemeinsam wollen wir über den Koalitionsvertrag zwischen CDU und SPD in Seligenstadt sprechen\, Hintergründe beleuchten und die wichtigsten Inhalte vorstellen. \nDer Vorstand steht bereit\, um eure Fragen zu beantworten und Details des Vertrags zu erläutern. \nIm Anschluss habt ihr die Möglichkeit\, direkt vor Ort über den Koalitionsvertrag abzustimmen. Dafür bringt bitte euren Wahlbrief der Partei und eure Mitgliedsnummer mit. \n  \nEure Meinung zählt — und eure Stimme ist wichtig! \nLasst uns diese Gelegenheit nutzen\, um gemeinsam die Zukunft unseres Landes mitzugestalten. \n  \nWir freuen uns sehr auf euer Kommen und auf einen offenen\, engagierten Austausch! Und bringe gerne Deine Freunde mit.
URL:https://www.spd-seligenstadt.de/event/mitreden-diskutieren-abstimmen-spd-seligenstadt-laedt-zum-koalitions-talk/
END:VEVENT
END:VCALENDAR