BEGIN:VCALENDAR
VERSION:2.0
PRODID:-//SPD Seligenstadt - ECPv6.15.20//NONSGML v1.0//EN
CALSCALE:GREGORIAN
METHOD:PUBLISH
X-WR-CALNAME:SPD Seligenstadt
X-ORIGINAL-URL:https://www.spd-seligenstadt.de
X-WR-CALDESC:Veranstaltungen für SPD Seligenstadt
REFRESH-INTERVAL;VALUE=DURATION:PT1H
X-Robots-Tag:noindex
X-PUBLISHED-TTL:PT1H
BEGIN:VTIMEZONE
TZID:Europe/Berlin
BEGIN:DAYLIGHT
TZOFFSETFROM:+0100
TZOFFSETTO:+0200
TZNAME:CEST
DTSTART:20240331T010000
END:DAYLIGHT
BEGIN:STANDARD
TZOFFSETFROM:+0200
TZOFFSETTO:+0100
TZNAME:CET
DTSTART:20241027T010000
END:STANDARD
BEGIN:DAYLIGHT
TZOFFSETFROM:+0100
TZOFFSETTO:+0200
TZNAME:CEST
DTSTART:20250330T010000
END:DAYLIGHT
BEGIN:STANDARD
TZOFFSETFROM:+0200
TZOFFSETTO:+0100
TZNAME:CET
DTSTART:20251026T010000
END:STANDARD
BEGIN:DAYLIGHT
TZOFFSETFROM:+0100
TZOFFSETTO:+0200
TZNAME:CEST
DTSTART:20260329T010000
END:DAYLIGHT
BEGIN:STANDARD
TZOFFSETFROM:+0200
TZOFFSETTO:+0100
TZNAME:CET
DTSTART:20261025T010000
END:STANDARD
END:VTIMEZONE
BEGIN:VEVENT
DTSTART;TZID=Europe/Berlin:20250512T190000
DTEND;TZID=Europe/Berlin:20250512T210000
DTSTAMP:20260422T155559
CREATED:20250216T125532Z
LAST-MODIFIED:20250427T124416Z
UID:12405-1747076400-1747083600@www.spd-seligenstadt.de
SUMMARY:AG60plus KreisOF - Jahreshauptversammlung
DESCRIPTION:um 19 Uhr !  \nin der Geschäftsstelle der SPD in Dietzenbach\, Lehrstr. 12 (Roter Salon)
URL:https://www.spd-seligenstadt.de/event/ag60plus-kreisof-jahreshauptversammlung/
LOCATION:Roter Salon der UB-Geschäftsstelle\, Lehrstraße 12\, Dietzenbach\, 63128
CATEGORIES:AK 60plus,Jahreshauptversammlung,Wahlen
END:VEVENT
END:VCALENDAR